BEGIN:VCALENDAR
VERSION:2.0
PRODID:-//Gemeinde Utting am Ammersee - ECPv6.15.17.1//NONSGML v1.0//EN
CALSCALE:GREGORIAN
METHOD:PUBLISH
X-WR-CALNAME:Gemeinde Utting am Ammersee
X-ORIGINAL-URL:https://www.utting.de
X-WR-CALDESC:Veranstaltungen für Gemeinde Utting am Ammersee
REFRESH-INTERVAL;VALUE=DURATION:PT1H
X-Robots-Tag:noindex
X-PUBLISHED-TTL:PT1H
BEGIN:VTIMEZONE
TZID:Europe/Helsinki
BEGIN:DAYLIGHT
TZOFFSETFROM:+0200
TZOFFSETTO:+0300
TZNAME:EEST
DTSTART:20240331T010000
END:DAYLIGHT
BEGIN:STANDARD
TZOFFSETFROM:+0300
TZOFFSETTO:+0200
TZNAME:EET
DTSTART:20241027T010000
END:STANDARD
BEGIN:DAYLIGHT
TZOFFSETFROM:+0200
TZOFFSETTO:+0300
TZNAME:EEST
DTSTART:20250330T010000
END:DAYLIGHT
BEGIN:STANDARD
TZOFFSETFROM:+0300
TZOFFSETTO:+0200
TZNAME:EET
DTSTART:20251026T010000
END:STANDARD
BEGIN:DAYLIGHT
TZOFFSETFROM:+0200
TZOFFSETTO:+0300
TZNAME:EEST
DTSTART:20260329T010000
END:DAYLIGHT
BEGIN:STANDARD
TZOFFSETFROM:+0300
TZOFFSETTO:+0200
TZNAME:EET
DTSTART:20261025T010000
END:STANDARD
END:VTIMEZONE
BEGIN:VEVENT
DTSTART;TZID=Europe/Helsinki:20250525T090000
DTEND;TZID=Europe/Helsinki:20250525T120000
DTSTAMP:20260423T071708
CREATED:20250521T074628Z
LAST-MODIFIED:20250521T074628Z
UID:24610-1748163600-1748174400@www.utting.de
SUMMARY:Klima-Sonntag
DESCRIPTION:Gemeinsam Antworten finden zu den Herausforderungen der Klimakatastrophe \nNächster Klima-Sonntag am 25. Mai 2025\nvon 9:00 bis 12:00 Uhr \nTreffpunkt Parkplatz Neue Ammer\n(bei Fischen\, Ammerbrücke\, St2056) \nDer Ammersee in Zeiten des Klimawandels – Führung in das Ramsar-Schutzgebiet „Ammersee Südende“ durch die Gebietsbetreuer/-innen \nAnmeldung bitte bis spätestens 20.05.25 unter 0171 – 4483697 \nSofern vorhanden\, bringen Sie bitte ihr Fernglas mit.\nDie Führung entfällt bei Gewitter oder Starkregen.
URL:https://www.utting.de/event/klima-sonntag-3/
CATEGORIES:Freizeit + Tourismus
END:VEVENT
END:VCALENDAR