BEGIN:VCALENDAR
VERSION:2.0
PRODID:-//Gemeinde Utting am Ammersee - ECPv6.15.17.1//NONSGML v1.0//EN
CALSCALE:GREGORIAN
METHOD:PUBLISH
X-WR-CALNAME:Gemeinde Utting am Ammersee
X-ORIGINAL-URL:https://www.utting.de
X-WR-CALDESC:Veranstaltungen für Gemeinde Utting am Ammersee
REFRESH-INTERVAL;VALUE=DURATION:PT1H
X-Robots-Tag:noindex
X-PUBLISHED-TTL:PT1H
BEGIN:VTIMEZONE
TZID:Europe/Helsinki
BEGIN:DAYLIGHT
TZOFFSETFROM:+0200
TZOFFSETTO:+0300
TZNAME:EEST
DTSTART:20250330T010000
END:DAYLIGHT
BEGIN:STANDARD
TZOFFSETFROM:+0300
TZOFFSETTO:+0200
TZNAME:EET
DTSTART:20251026T010000
END:STANDARD
BEGIN:DAYLIGHT
TZOFFSETFROM:+0200
TZOFFSETTO:+0300
TZNAME:EEST
DTSTART:20260329T010000
END:DAYLIGHT
BEGIN:STANDARD
TZOFFSETFROM:+0300
TZOFFSETTO:+0200
TZNAME:EET
DTSTART:20261025T010000
END:STANDARD
BEGIN:DAYLIGHT
TZOFFSETFROM:+0200
TZOFFSETTO:+0300
TZNAME:EEST
DTSTART:20270328T010000
END:DAYLIGHT
BEGIN:STANDARD
TZOFFSETFROM:+0300
TZOFFSETTO:+0200
TZNAME:EET
DTSTART:20271031T010000
END:STANDARD
END:VTIMEZONE
BEGIN:VEVENT
DTSTART;TZID=Europe/Helsinki:20260627T200000
DTEND;TZID=Europe/Helsinki:20260627T200000
DTSTAMP:20260423T034225
CREATED:20260225T083547Z
LAST-MODIFIED:20260225T083547Z
UID:39631-1782590400-1782590400@www.utting.de
SUMMARY:Jahreskonzert der Blasmusikfreunde Utting
DESCRIPTION:„Klassisch – Traditionell – Beschwingt“  am Samstag\, 27. Juni 2026 um 20:00 Uhr in der evang. Christuskirche Utting
URL:https://www.utting.de/event/jahreskonzert-der-blasmusikfreunde-utting/
LOCATION:Evangelische Christuskirche\, Laibner Straße 25\, Utting
CATEGORIES:Freizeit + Tourismus
ORGANIZER;CN="Blasmusikfreunde Utting":MAILTO:vorstand@blasmusikfreunde-utting.de
END:VEVENT
END:VCALENDAR