BEGIN:VCALENDAR
VERSION:2.0
PRODID:-//Gemeinde Utting am Ammersee - ECPv6.15.17.1//NONSGML v1.0//EN
CALSCALE:GREGORIAN
METHOD:PUBLISH
X-WR-CALNAME:Gemeinde Utting am Ammersee
X-ORIGINAL-URL:https://www.utting.de
X-WR-CALDESC:Veranstaltungen für Gemeinde Utting am Ammersee
REFRESH-INTERVAL;VALUE=DURATION:PT1H
X-Robots-Tag:noindex
X-PUBLISHED-TTL:PT1H
BEGIN:VTIMEZONE
TZID:Europe/Helsinki
BEGIN:DAYLIGHT
TZOFFSETFROM:+0200
TZOFFSETTO:+0300
TZNAME:EEST
DTSTART:20250330T010000
END:DAYLIGHT
BEGIN:STANDARD
TZOFFSETFROM:+0300
TZOFFSETTO:+0200
TZNAME:EET
DTSTART:20251026T010000
END:STANDARD
BEGIN:DAYLIGHT
TZOFFSETFROM:+0200
TZOFFSETTO:+0300
TZNAME:EEST
DTSTART:20260329T010000
END:DAYLIGHT
BEGIN:STANDARD
TZOFFSETFROM:+0300
TZOFFSETTO:+0200
TZNAME:EET
DTSTART:20261025T010000
END:STANDARD
BEGIN:DAYLIGHT
TZOFFSETFROM:+0200
TZOFFSETTO:+0300
TZNAME:EEST
DTSTART:20270328T010000
END:DAYLIGHT
BEGIN:STANDARD
TZOFFSETFROM:+0300
TZOFFSETTO:+0200
TZNAME:EET
DTSTART:20271031T010000
END:STANDARD
END:VTIMEZONE
BEGIN:VEVENT
DTSTART;TZID=Europe/Helsinki:20260329T100000
DTEND;TZID=Europe/Helsinki:20260329T130000
DTSTAMP:20260422T192013
CREATED:20260318T102318Z
LAST-MODIFIED:20260318T102318Z
UID:41777-1774778400-1774789200@www.utting.de
SUMMARY:Klima-Sonntag
DESCRIPTION:
URL:https://www.utting.de/event/klima-sonntag-4/
LOCATION:Bürgertreff\, Bahnhofstr. 31\, Utting\, 86919
CATEGORIES:Freizeit + Tourismus
ATTACH;FMTTYPE=image/jpeg:https://www.utting.de/wp-content/uploads/2026/03/Klimasonntag.jpg
END:VEVENT
END:VCALENDAR