BEGIN:VCALENDAR
VERSION:2.0
PRODID:-//Gemeinde Utting am Ammersee - ECPv6.15.17.1//NONSGML v1.0//EN
CALSCALE:GREGORIAN
METHOD:PUBLISH
X-WR-CALNAME:Gemeinde Utting am Ammersee
X-ORIGINAL-URL:https://www.utting.de
X-WR-CALDESC:Veranstaltungen für Gemeinde Utting am Ammersee
REFRESH-INTERVAL;VALUE=DURATION:PT1H
X-Robots-Tag:noindex
X-PUBLISHED-TTL:PT1H
BEGIN:VTIMEZONE
TZID:Europe/Helsinki
BEGIN:DAYLIGHT
TZOFFSETFROM:+0200
TZOFFSETTO:+0300
TZNAME:EEST
DTSTART:20250330T010000
END:DAYLIGHT
BEGIN:STANDARD
TZOFFSETFROM:+0300
TZOFFSETTO:+0200
TZNAME:EET
DTSTART:20251026T010000
END:STANDARD
BEGIN:DAYLIGHT
TZOFFSETFROM:+0200
TZOFFSETTO:+0300
TZNAME:EEST
DTSTART:20260329T010000
END:DAYLIGHT
BEGIN:STANDARD
TZOFFSETFROM:+0300
TZOFFSETTO:+0200
TZNAME:EET
DTSTART:20261025T010000
END:STANDARD
BEGIN:DAYLIGHT
TZOFFSETFROM:+0200
TZOFFSETTO:+0300
TZNAME:EEST
DTSTART:20270328T010000
END:DAYLIGHT
BEGIN:STANDARD
TZOFFSETFROM:+0300
TZOFFSETTO:+0200
TZNAME:EET
DTSTART:20271031T010000
END:STANDARD
END:VTIMEZONE
BEGIN:VEVENT
DTSTART;TZID=Europe/Helsinki:20260501T110000
DTEND;TZID=Europe/Helsinki:20260501T110000
DTSTAMP:20260423T165101
CREATED:20260409T100422Z
LAST-MODIFIED:20260409T100933Z
UID:11385-1777633200-1777633200@www.utting.de
SUMMARY:Maibaum aufstellen
DESCRIPTION:
URL:https://www.utting.de/event/maibaum-aufstellen/
LOCATION:Holzhausen\, Utting\, 86919
CATEGORIES:Freizeit + Tourismus
ATTACH;FMTTYPE=image/jpeg:https://www.utting.de/wp-content/uploads/2023/04/Plakat-Maifest-2026-1.jpg
ORGANIZER;CN="Sch%C3%BCtzenverein Seerose":MAILTO:info@seerose-holzhausen.de
END:VEVENT
BEGIN:VEVENT
DTSTART;TZID=Europe/Helsinki:20260501T140000
DTEND;TZID=Europe/Helsinki:20260510T180000
DTSTAMP:20260423T165101
CREATED:20260408T122547Z
LAST-MODIFIED:20260408T122547Z
UID:41873-1777644000-1778436000@www.utting.de
SUMMARY:UTTINGER ARTISTS & FRIENDS - Berührungspunkte – Malerei und Skulptur
DESCRIPTION:Eine Ausstellungsreihe mit neuen & alten befreundeten Künstlergruppen\nIn einer mehrmonatigen Ausstellungsreihe der Uttinger Artists & friends begegnen sich Künstlerinnen und Künstler\, die nicht nur ihre Leidenschaft für\nKunst\, sondern auch teilweise langjährige Freundschaften und gemeinsame kreative Wege verbindet. Vom 1. Mai bis zum 12. Juli 2026 zeigen sie im\nWechsel ihre vielfältigen Positionen – von Malerei und Skulptur über Fotografie und Poesie bis hin zu Videoarbeiten und gemeinsamer Freiluftmalerei. \nBerührungspunkte – Malerei und Skulptur (1.–10. Mai 2026)\nEs starten mit „Berührungspunkte“ Michaela Spatz\, Meike von Arndt\, Jeanette Loder und Ferdi Kaiser\, die einen weiten Bogen zwischen Farbe und\nForm spannen. Abstrakte Landschaften\, charakterstarke Frauenmotive\, stille Alltagsgegenstände und Tierdarstellungen treten in einen spannungsvollen\nDialog mit dynamischen Bronzeskulpturen. So entstehen Berührungspunkte zwischen Beobachtung\, Erinnerung und plastischer Gestalt. \nOrt: Kulturforum Utting\, Bahnhofsplatz 3\, 86919 Utting am Ammersee\nÖffnungszeiten: Freitag \, Samstag & Sonntag\, jeweils 14 – 18 Uhr \nDiese Ausstellungsreihe lädt dazu ein\, die Vielfalt künstlerischer Handschriften\, inspirierende Begegnungen und die Kraft gemeinsamer\nschöpferischer Prozesse zu erleben.
URL:https://www.utting.de/event/uttinger-artists-friends-beruehrungspunkte-malerei-und-skulptur/
LOCATION:Ku-Fo Raum im Bahnhof Utting\, Utting
CATEGORIES:Freizeit + Tourismus
ATTACH;FMTTYPE=image/jpeg:https://www.utting.de/wp-content/uploads/2026/04/UttingerArtistsFriends-Collage-Bilder-2026Namen-RGB-1.jpg
END:VEVENT
BEGIN:VEVENT
DTSTART;TZID=Europe/Helsinki:20260503T100000
DTEND;TZID=Europe/Helsinki:20260503T100000
DTSTAMP:20260423T165101
CREATED:20260217T091902Z
LAST-MODIFIED:20260217T091902Z
UID:39258-1777802400-1777802400@www.utting.de
SUMMARY:Orgeleinweihung Christuskirche
DESCRIPTION:Die Orgel wird eingebaut und die evangelische Kirchengemeinde feiert! \nSchon seit einiger Zeit kann man in der Christuskirche den Orgelprospekt sehen und die Orgelpfeifen bewundern. Schaut man jedoch hinter diese Fassade\, dann ist da: Nichts! \nDas soll sich ändern. Im Frühjahr wird die neue Orgel geliefert und eingebaut. Sie erklingt zum ersten Mal für die Öffentlichkeit am \n03. Mai\, 10.45 Uhr im Festgottesdienst. \nAls Prediger konnten wir Altbischof Heinrich Bedford Strohm gewinnen. \nHerzliche Einladung\, mitzufeiern! Dieser Gottesdienst wird auch gestreamt. \nAnschließend feiern wir im Hof und Garten mit Speis und Trank weiter. \nParallel werden Orgelführungen in der Christuskirche angeboten. \nUm 17.00 Uhr gibt es einen weiteren musikalischen Höhepunkt: „Orgel im Dialog“ mit KMD Klaus Geitner an der Orgel und Dirk-Michael Kirsch an der Oboe. Klaus Geitner stand der evang. Gemeinde von Seiten der Landeskirche beim gesamten Entstehungsprozess der Orgel kompetent zur Seite und bietet nach dem Konzert ebenfalls eine Orgelführung an. \n 
URL:https://www.utting.de/event/orgeleinweihung-christuskirche/
LOCATION:Evangelische Christuskirche\, Laibner Straße 25\, Utting
CATEGORIES:Freizeit + Tourismus
END:VEVENT
BEGIN:VEVENT
DTSTART;TZID=Europe/Helsinki:20260509T160000
DTEND;TZID=Europe/Helsinki:20260510T180000
DTSTAMP:20260423T165101
CREATED:20260415T114622Z
LAST-MODIFIED:20260415T114622Z
UID:41894-1778342400-1778436000@www.utting.de
SUMMARY:Wein & Hoffest
DESCRIPTION:
URL:https://www.utting.de/event/wein-hoffest-2/
LOCATION:Ammersee Winery / Bio-Landwirtschaftsbetrieb\, Schondorfer Str. 22\, Utting\, 86919\, Deutschland
CATEGORIES:Freizeit + Tourismus
ATTACH;FMTTYPE=image/jpeg:https://www.utting.de/wp-content/uploads/2026/04/Wein-und-Hoffest.jpeg
ORGANIZER;CN="Ammersee Winery":MAILTO:info@ammersee-winery.de
END:VEVENT
BEGIN:VEVENT
DTSTART;TZID=Europe/Helsinki:20260514T100000
DTEND;TZID=Europe/Helsinki:20260514T100000
DTSTAMP:20260423T165101
CREATED:20260324T132335Z
LAST-MODIFIED:20260324T132335Z
UID:41793-1778752800-1778752800@www.utting.de
SUMMARY:Hl. Messe mit anschl. Flurumgang
DESCRIPTION:
URL:https://www.utting.de/event/hl-messe-mit-anschl-flurumgang/
LOCATION:St. Leonhard\, Dießener Str. 14\, Utting\, 86919
CATEGORIES:Freizeit + Tourismus
END:VEVENT
BEGIN:VEVENT
DTSTART;TZID=Europe/Helsinki:20260515T090000
DTEND;TZID=Europe/Helsinki:20260515T090000
DTSTAMP:20260423T165101
CREATED:20260324T132456Z
LAST-MODIFIED:20260324T132456Z
UID:41795-1778835600-1778835600@www.utting.de
SUMMARY:Wallfahrt nach Andechs
DESCRIPTION:
URL:https://www.utting.de/event/wallfahrt-nach-andechs-2/
LOCATION:Dampfersteg Utting
CATEGORIES:Freizeit + Tourismus
END:VEVENT
BEGIN:VEVENT
DTSTART;TZID=Europe/Helsinki:20260515T140000
DTEND;TZID=Europe/Helsinki:20260525T180000
DTSTAMP:20260423T165101
CREATED:20260408T122938Z
LAST-MODIFIED:20260408T122938Z
UID:41876-1778853600-1779732000@www.utting.de
SUMMARY:UTTINGER ARTISTS & FRIENDS - Entfaltung
DESCRIPTION:Eine Ausstellungsreihe mit neuen & alten befreundeten Künstlergruppen\nIn einer mehrmonatigen Ausstellungsreihe der Uttinger Artists & friends begegnen sich Künstlerinnen und Künstler\, die nicht nur ihre Leidenschaft für\nKunst\, sondern auch teilweise langjährige Freundschaften und gemeinsame kreative Wege verbindet. Vom 1. Mai bis zum 12. Juli 2026 zeigen sie im\nWechsel ihre vielfältigen Positionen – von Malerei und Skulptur über Fotografie und Poesie bis hin zu Videoarbeiten und gemeinsamer Freiluftmalerei. \nEntfaltung\nChristiane Noll\, Julia Maas  und Lea Lerche erkunden in ihren Arbeiten die Zartheit des Übergangs. In Fotografie\, Malerei\, Objekten\, Poesie und Video\nentfalten sich Momente zwischen Knospe und Flügelschlag – ein poetisches Spiel von Werden\, Wachsen und Loslassen. \nOrt: Kulturforum Utting\, Bahnhofsplatz 3\, 86919 Utting am Ammersee\nÖffnungszeiten: Freitag \, Samstag & Sonntag\, jeweils 14 – 18 Uhr \nDiese Ausstellungsreihe lädt dazu ein\, die Vielfalt künstlerischer Handschriften\, inspirierende Begegnungen und die Kraft gemeinsamer\nschöpferischer Prozesse zu erleben.
URL:https://www.utting.de/event/uttinger-artists-friends-entfaltung/
LOCATION:Ku-Fo Raum im Bahnhof Utting\, Utting
ATTACH;FMTTYPE=image/jpeg:https://www.utting.de/wp-content/uploads/2026/04/UttingerArtistsFriends-Collage-Bilder-2026Namen-RGB-1.jpg
END:VEVENT
BEGIN:VEVENT
DTSTART;TZID=Europe/Helsinki:20260531T180000
DTEND;TZID=Europe/Helsinki:20260531T180000
DTSTAMP:20260423T165101
CREATED:20260324T132544Z
LAST-MODIFIED:20260324T132544Z
UID:41798-1780250400-1780250400@www.utting.de
SUMMARY:Maiandacht mit musikalischer Gestaltung durch die Liedertafel
DESCRIPTION:
URL:https://www.utting.de/event/maiandacht-mit-musikalischer-gestaltung-durch-die-liedertafel/
LOCATION:Sonnendachl\, Utting\, 86919\, Deutschland
CATEGORIES:Freizeit + Tourismus
END:VEVENT
END:VCALENDAR