BEGIN:VCALENDAR
VERSION:2.0
PRODID:-//Gemeinde Utting am Ammersee - ECPv6.15.17.1//NONSGML v1.0//EN
CALSCALE:GREGORIAN
METHOD:PUBLISH
X-WR-CALNAME:Gemeinde Utting am Ammersee
X-ORIGINAL-URL:https://www.utting.de
X-WR-CALDESC:Veranstaltungen für Gemeinde Utting am Ammersee
REFRESH-INTERVAL;VALUE=DURATION:PT1H
X-Robots-Tag:noindex
X-PUBLISHED-TTL:PT1H
BEGIN:VTIMEZONE
TZID:Europe/Helsinki
BEGIN:DAYLIGHT
TZOFFSETFROM:+0200
TZOFFSETTO:+0300
TZNAME:EEST
DTSTART:20250330T010000
END:DAYLIGHT
BEGIN:STANDARD
TZOFFSETFROM:+0300
TZOFFSETTO:+0200
TZNAME:EET
DTSTART:20251026T010000
END:STANDARD
BEGIN:DAYLIGHT
TZOFFSETFROM:+0200
TZOFFSETTO:+0300
TZNAME:EEST
DTSTART:20260329T010000
END:DAYLIGHT
BEGIN:STANDARD
TZOFFSETFROM:+0300
TZOFFSETTO:+0200
TZNAME:EET
DTSTART:20261025T010000
END:STANDARD
BEGIN:DAYLIGHT
TZOFFSETFROM:+0200
TZOFFSETTO:+0300
TZNAME:EEST
DTSTART:20270328T010000
END:DAYLIGHT
BEGIN:STANDARD
TZOFFSETFROM:+0300
TZOFFSETTO:+0200
TZNAME:EET
DTSTART:20271031T010000
END:STANDARD
END:VTIMEZONE
BEGIN:VEVENT
DTSTART;TZID=Europe/Helsinki:20260425T100000
DTEND;TZID=Europe/Helsinki:20260425T160000
DTSTAMP:20260421T211544
CREATED:20260217T074420Z
LAST-MODIFIED:20260217T074458Z
UID:39236-1777111200-1777132800@www.utting.de
SUMMARY:40-jähriges Firmenjubiläum Kaiser Haustechnik GmbH
DESCRIPTION:Anlässlich unseres 40-jährigen Firmenjubiläums lassen wir die Tradition des Energiespartags wieder aufleben und laden von 10:00 bis 16:00 Uhr in die Industriestraße 25\, 86919 Utting am Ammersee ein. \nDie Besucherinnen und Besucher erwartet ein vielfältiges Programm rund um moderne Haustechnik\, Energieeffizienz und zukunftsfähige Lösungen: \nProgrammüberblick: \n10:00 Uhr Beginn und Einlass \n11:00 Uhr Eröffnung durch Bürgermeister Florian Hoffmann \n11:15 Uhr Grußwort der Innung \n13:30 Uhr Fachvortrag „Energieberatung“ (Philip Theuerkorn und Georg Kaiser) \n14:30 Uhr Fachvortrag „Energiewende vor Ort – wie kann sie in Kommunen wie Utting gelingen?“ (Prof. Dr. Wolfgang Mauch) \n15:30 Uhr Tombola \n16:00 Uhr Ende der Veranstaltung \nZahlreiche Aussteller präsentieren innovative Lösungen aus den Bereichen Wärmepumpe\, Lüftung\, PV-Anlagen\, Batteriespeicher\, Wasserbehandlung\, Gebäudetechnik und mehr. Zudem gibt es ein Kinderprogramm sowie Kaffee und Kuchen. \nWeitere Informationen finden Interessierte unter:\nwww.kaiser-haustechnik.com
URL:https://www.utting.de/event/40-jahre-kaiser/
LOCATION:Kaiser Haustechnik GmbH\, Industriestraße 25\, Utting\, 86919
CATEGORIES:Freizeit + Tourismus
ORGANIZER;CN="Kaiser Haustechnik GmbH":MAILTO:info@kaiser-haustechnik.com
END:VEVENT
END:VCALENDAR