BEGIN:VCALENDAR
VERSION:2.0
PRODID:-//Gemeinde Utting am Ammersee - ECPv6.15.17.1//NONSGML v1.0//EN
CALSCALE:GREGORIAN
METHOD:PUBLISH
X-ORIGINAL-URL:https://www.utting.de
X-WR-CALDESC:Veranstaltungen für Gemeinde Utting am Ammersee
REFRESH-INTERVAL;VALUE=DURATION:PT1H
X-Robots-Tag:noindex
X-PUBLISHED-TTL:PT1H
BEGIN:VTIMEZONE
TZID:Europe/Helsinki
BEGIN:DAYLIGHT
TZOFFSETFROM:+0200
TZOFFSETTO:+0300
TZNAME:EEST
DTSTART:20240331T010000
END:DAYLIGHT
BEGIN:STANDARD
TZOFFSETFROM:+0300
TZOFFSETTO:+0200
TZNAME:EET
DTSTART:20241027T010000
END:STANDARD
BEGIN:DAYLIGHT
TZOFFSETFROM:+0200
TZOFFSETTO:+0300
TZNAME:EEST
DTSTART:20250330T010000
END:DAYLIGHT
BEGIN:STANDARD
TZOFFSETFROM:+0300
TZOFFSETTO:+0200
TZNAME:EET
DTSTART:20251026T010000
END:STANDARD
BEGIN:DAYLIGHT
TZOFFSETFROM:+0200
TZOFFSETTO:+0300
TZNAME:EEST
DTSTART:20260329T010000
END:DAYLIGHT
BEGIN:STANDARD
TZOFFSETFROM:+0300
TZOFFSETTO:+0200
TZNAME:EET
DTSTART:20261025T010000
END:STANDARD
END:VTIMEZONE
BEGIN:VEVENT
DTSTART;TZID=Europe/Helsinki:20250210T093000
DTEND;TZID=Europe/Helsinki:20250210T113000
DTSTAMP:20260423T164153
CREATED:20250205T155803Z
LAST-MODIFIED:20250205T155803Z
UID:21901-1739179800-1739187000@www.utting.de
SUMMARY:Offener Familientreff - immer Montags
DESCRIPTION:Alle Elter\, Großeltern mit Kindern sind eingeladen! – Keine Kinderbetreuung! \nEinfach kommen\, gemeinsam Spielen\, Singen\, Kaffee trinken\, andere Kinder und Eltern kennenlernen. \nKeine Anmeldung erforderlich. \nBitte eine kleine Brotzeit mitbringen. \nIch freue mich auf alle Großen und Kleinen! \nUschi Zenker\, Integrationsbegleitung\nDiakonin\, Erzieherin \n01575-5503843
URL:https://www.utting.de/event/offener-familientreff-immer-montags/
LOCATION:Bürgertreff\, Bahnhofstr. 31\, Utting\, 86919
CATEGORIES:Freizeit + Tourismus
END:VEVENT
END:VCALENDAR