BEGIN:VCALENDAR
VERSION:2.0
PRODID:-//Gemeinde Utting am Ammersee - ECPv6.15.17.1//NONSGML v1.0//EN
CALSCALE:GREGORIAN
METHOD:PUBLISH
X-ORIGINAL-URL:https://www.utting.de
X-WR-CALDESC:Veranstaltungen für Gemeinde Utting am Ammersee
REFRESH-INTERVAL;VALUE=DURATION:PT1H
X-Robots-Tag:noindex
X-PUBLISHED-TTL:PT1H
BEGIN:VTIMEZONE
TZID:Europe/Helsinki
BEGIN:DAYLIGHT
TZOFFSETFROM:+0200
TZOFFSETTO:+0300
TZNAME:EEST
DTSTART:20240331T010000
END:DAYLIGHT
BEGIN:STANDARD
TZOFFSETFROM:+0300
TZOFFSETTO:+0200
TZNAME:EET
DTSTART:20241027T010000
END:STANDARD
BEGIN:DAYLIGHT
TZOFFSETFROM:+0200
TZOFFSETTO:+0300
TZNAME:EEST
DTSTART:20250330T010000
END:DAYLIGHT
BEGIN:STANDARD
TZOFFSETFROM:+0300
TZOFFSETTO:+0200
TZNAME:EET
DTSTART:20251026T010000
END:STANDARD
BEGIN:DAYLIGHT
TZOFFSETFROM:+0200
TZOFFSETTO:+0300
TZNAME:EEST
DTSTART:20260329T010000
END:DAYLIGHT
BEGIN:STANDARD
TZOFFSETFROM:+0300
TZOFFSETTO:+0200
TZNAME:EET
DTSTART:20261025T010000
END:STANDARD
END:VTIMEZONE
BEGIN:VEVENT
DTSTART;TZID=Europe/Helsinki:20250128T190000
DTEND;TZID=Europe/Helsinki:20250128T190000
DTSTAMP:20260421T140543
CREATED:20250114T123526Z
LAST-MODIFIED:20250114T123526Z
UID:20698-1738090800-1738090800@www.utting.de
SUMMARY:Infoabend für alle Interessierten des Telos-Kinderhauses und des Telos-Naturhauses
DESCRIPTION:Infoabend für alle Interessierten des Telos-Kinderhauses und des Telos-Naturhauses: \nEinführung in unsere Pädagogik\, Zeit für Ihre Fragen. \nDienstag\, der 28.01.2025 um 19.00 bis ca. 20.30 Uhr \nOrt: Telos-Kinderhaus\, Steinreiß 1\, Utting
URL:https://www.utting.de/event/infoabend-fuer-alle-interessierten-des-telos-kinderhauses-und-des-telos-naturhauses/
LOCATION:Telos-Kinderhaus\, Steinreiß 1\, Utting\, 86919
CATEGORIES:Freizeit + Tourismus
ORGANIZER;CN="Telos Kinderhaus":MAILTO:info@telos-kinderhaus.de
END:VEVENT
END:VCALENDAR