BEGIN:VCALENDAR
VERSION:2.0
PRODID:-//Gemeinde Utting am Ammersee - ECPv6.15.17.1//NONSGML v1.0//EN
CALSCALE:GREGORIAN
METHOD:PUBLISH
X-WR-CALNAME:Gemeinde Utting am Ammersee
X-ORIGINAL-URL:https://www.utting.de
X-WR-CALDESC:Veranstaltungen für Gemeinde Utting am Ammersee
REFRESH-INTERVAL;VALUE=DURATION:PT1H
X-Robots-Tag:noindex
X-PUBLISHED-TTL:PT1H
BEGIN:VTIMEZONE
TZID:Europe/Helsinki
BEGIN:DAYLIGHT
TZOFFSETFROM:+0200
TZOFFSETTO:+0300
TZNAME:EEST
DTSTART:20230326T010000
END:DAYLIGHT
BEGIN:STANDARD
TZOFFSETFROM:+0300
TZOFFSETTO:+0200
TZNAME:EET
DTSTART:20231029T010000
END:STANDARD
BEGIN:DAYLIGHT
TZOFFSETFROM:+0200
TZOFFSETTO:+0300
TZNAME:EEST
DTSTART:20240331T010000
END:DAYLIGHT
BEGIN:STANDARD
TZOFFSETFROM:+0300
TZOFFSETTO:+0200
TZNAME:EET
DTSTART:20241027T010000
END:STANDARD
BEGIN:DAYLIGHT
TZOFFSETFROM:+0200
TZOFFSETTO:+0300
TZNAME:EEST
DTSTART:20250330T010000
END:DAYLIGHT
BEGIN:STANDARD
TZOFFSETFROM:+0300
TZOFFSETTO:+0200
TZNAME:EET
DTSTART:20251026T010000
END:STANDARD
END:VTIMEZONE
BEGIN:VEVENT
DTSTART;TZID=Europe/Helsinki:20241224T163000
DTEND;TZID=Europe/Helsinki:20241224T163000
DTSTAMP:20260422T172404
CREATED:20241120T083911Z
LAST-MODIFIED:20241120T083911Z
UID:18242-1735057800-1735057800@www.utting.de
SUMMARY:Kindermette
DESCRIPTION:
URL:https://www.utting.de/event/kindermette/
LOCATION:Pfarrkirche Mariä Heimsuchung\, Ludwigstraße 12\, Utting\, Bayern\, 86919\, Deutschland
CATEGORIES:Freizeit + Tourismus
END:VEVENT
BEGIN:VEVENT
DTSTART;TZID=Europe/Helsinki:20241224T210000
DTEND;TZID=Europe/Helsinki:20241224T210000
DTSTAMP:20260422T172404
CREATED:20241120T084012Z
LAST-MODIFIED:20241120T084012Z
UID:18244-1735074000-1735074000@www.utting.de
SUMMARY:Christmette
DESCRIPTION:
URL:https://www.utting.de/event/christmette/
LOCATION:Pfarrkirche Mariä Heimsuchung\, Ludwigstraße 12\, Utting\, Bayern\, 86919\, Deutschland
CATEGORIES:Freizeit + Tourismus
END:VEVENT
END:VCALENDAR