BEGIN:VCALENDAR
VERSION:2.0
PRODID:-//Gemeinde Utting am Ammersee - ECPv6.15.17.1//NONSGML v1.0//EN
CALSCALE:GREGORIAN
METHOD:PUBLISH
X-WR-CALNAME:Gemeinde Utting am Ammersee
X-ORIGINAL-URL:https://www.utting.de
X-WR-CALDESC:Veranstaltungen für Gemeinde Utting am Ammersee
REFRESH-INTERVAL;VALUE=DURATION:PT1H
X-Robots-Tag:noindex
X-PUBLISHED-TTL:PT1H
BEGIN:VTIMEZONE
TZID:Europe/Helsinki
BEGIN:DAYLIGHT
TZOFFSETFROM:+0200
TZOFFSETTO:+0300
TZNAME:EEST
DTSTART:20230326T010000
END:DAYLIGHT
BEGIN:STANDARD
TZOFFSETFROM:+0300
TZOFFSETTO:+0200
TZNAME:EET
DTSTART:20231029T010000
END:STANDARD
BEGIN:DAYLIGHT
TZOFFSETFROM:+0200
TZOFFSETTO:+0300
TZNAME:EEST
DTSTART:20240331T010000
END:DAYLIGHT
BEGIN:STANDARD
TZOFFSETFROM:+0300
TZOFFSETTO:+0200
TZNAME:EET
DTSTART:20241027T010000
END:STANDARD
BEGIN:DAYLIGHT
TZOFFSETFROM:+0200
TZOFFSETTO:+0300
TZNAME:EEST
DTSTART:20250330T010000
END:DAYLIGHT
BEGIN:STANDARD
TZOFFSETFROM:+0300
TZOFFSETTO:+0200
TZNAME:EET
DTSTART:20251026T010000
END:STANDARD
END:VTIMEZONE
BEGIN:VEVENT
DTSTART;TZID=Europe/Helsinki:20241201T120000
DTEND;TZID=Europe/Helsinki:20241201T170000
DTSTAMP:20260422T172448
CREATED:20241127T100656Z
LAST-MODIFIED:20241127T100656Z
UID:18652-1733054400-1733072400@www.utting.de
SUMMARY:Weihnachtsbasar Füreinander e.V.
DESCRIPTION:Weihnachtsbasar mit Handgestricktem im Uttinger Bürgertreff \nSind Sie noch auf der Suche nach einem individuellen Weihnachtsgeschenk? Dann sollten Sie den traditionellen Weihnachtsbasar im Uttinger Bürgertreff nicht verpassen! \nAm Samstag\, 30. November\, und Sonntag\, 1. Dezember 2024\, jeweils von 12 bis 17 Uhr\, lädt der Verein Füreinander e.V. herzlich ein. \nAngeboten werden liebevoll gefertigte handgestrickte Socken\, Mützen und Schals der Handarbeitsgruppe „Flotte Nadel“ – in vielen Größen\, Farben und für jeden Geschmack. \nAußerdem erwarten Sie ein Bücherbasar\, kunstvoll gestaltete Weihnachtsgestecke und eine Auswahl an Schmuck\, perfekt für besondere und individuelle Geschenke. \nDer gesamte Erlös des Basars kommt dem Verein Füreinander e.V. zugute. \nDamit unterstützt der Verein wichtige Aufgaben in der Seniorenarbeit sowie den Betrieb des Bürgertreffs\, der ein Ort der Begegnung für die Bürgerinnen und Bürger von Utting ist.
URL:https://www.utting.de/event/weihnachtsbasar-fuereinander-e-v-2/
LOCATION:Bürgertreff\, Bahnhofstr. 31\, Utting\, 86919
CATEGORIES:Freizeit + Tourismus
ORGANIZER;CN="F%C3%BCreinander e.V.":MAILTO:info@fuereinander-ammersee.de
END:VEVENT
END:VCALENDAR